BEGIN:VCALENDAR
VERSION:2.0
PRODID:-//Plone.org//NONSGML plone.app.event//EN
X-WR-TIMEZONE:Europe/Vienna
BEGIN:VEVENT
SUMMARY:Maxim Kantor: Rotes Licht (Roman\, 2018)
DTSTART;TZID=Europe/Vienna:20190109T190000
DTEND;TZID=Europe/Vienna:20190109T210000
DTSTAMP:20260424T192620Z
UID:e367516d4de2823657e711b2cb18723e@www.akbild.ac.at
CATEGORIES:Führungen / Veranstaltungen
CREATED:20220312T143831Z
DESCRIPTION:Lesung im Rahmen der Ausstellung Bosch &amp\; Kantor mit\n \n 
  Martin Schwab\n \n \, Schauspieler
LAST-MODIFIED:20240802T102356Z
URL:https://www.akbild.ac.at/de/museum-und-ausstellungen/kunstsammlungen/a
 ktuelles/gemaeldegalerie/fuehrungen_veranstaltungen/2019/maxim-kantor-rote
 s-licht-roman-2018
END:VEVENT
BEGIN:VTIMEZONE
TZID:Europe/Vienna
X-LIC-LOCATION:Europe/Vienna
BEGIN:STANDARD
DTSTART:20181028T020000
TZNAME:CET
TZOFFSETFROM:+0200
TZOFFSETTO:+0100
END:STANDARD
END:VTIMEZONE
END:VCALENDAR
