BEGIN:VCALENDAR
VERSION:2.0
PRODID:-//Plone.org//NONSGML plone.app.event//EN
X-WR-TIMEZONE:Europe/Vienna
BEGIN:VEVENT
SUMMARY:Glanz\, Schein\, Blendung - Vergolderworkshop
DTSTART;TZID=Europe/Vienna:20191207T100000
DTSTAMP:20260424T205453Z
UID:f3c7cab38fc5075a969ab87fc5bed30f@www.akbild.ac.at
CATEGORIES:Führungen / Veranstaltungen
CREATED:20220312T144026Z
DESCRIPTION:mit Veronika Laurer\, Vergoldermeisterin an der Gemäldegaleri
 e
LAST-MODIFIED:20240802T102400Z
URL:https://www.akbild.ac.at/de/museum-und-ausstellungen/kunstsammlungen/a
 ktuelles/gemaeldegalerie/fuehrungen_veranstaltungen/2019/vergolder-worksho
 p-20191207
END:VEVENT
BEGIN:VTIMEZONE
TZID:Europe/Vienna
X-LIC-LOCATION:Europe/Vienna
BEGIN:STANDARD
DTSTART:20191027T020000
TZNAME:CET
TZOFFSETFROM:+0200
TZOFFSETTO:+0100
END:STANDARD
END:VTIMEZONE
END:VCALENDAR
