BEGIN:VCALENDAR
VERSION:2.0
PRODID:-//Plone.org//NONSGML plone.app.event//EN
X-WR-TIMEZONE:Europe/Vienna
BEGIN:VEVENT
SUMMARY:Zeichnen ist Denken mit Stift. Unser erstes Skizzenbuch.
DTSTART;TZID=Europe/Vienna:20191026T110000
DTSTAMP:20260424T223425Z
UID:7e82a0911bfac4c2b72e22d4a4a8ae03@www.akbild.ac.at
CATEGORIES:Führungen / Veranstaltungen
CREATED:20220312T143944Z
DESCRIPTION:Workshop für Kinder und Jugendliche von 8 bis 14 Jahren mit S
 tephanie Sentall
LAST-MODIFIED:20240802T102356Z
URL:https://www.akbild.ac.at/de/museum-und-ausstellungen/kunstsammlungen/a
 ktuelles/gemaeldegalerie/fuehrungen_veranstaltungen/2019/zeichnen-ist-denk
 en-mit-stift-02
END:VEVENT
BEGIN:VTIMEZONE
TZID:Europe/Vienna
X-LIC-LOCATION:Europe/Vienna
BEGIN:DAYLIGHT
DTSTART:20190331T030000
TZNAME:CEST
TZOFFSETFROM:+0100
TZOFFSETTO:+0200
END:DAYLIGHT
END:VTIMEZONE
END:VCALENDAR
