BEGIN:VCALENDAR
VERSION:2.0
PRODID:-//Plone.org//NONSGML plone.app.event//EN
X-WR-TIMEZONE:Europe/Vienna
BEGIN:VEVENT
SUMMARY:ORF Museumszeit
DTSTART;TZID=Europe/Vienna:20201004T103000
DTSTAMP:20260424T223242Z
UID:197643fb5b4f9e9a79f3cd6f5b11360c@www.akbild.ac.at
CATEGORIES:Führungen / Veranstaltungen
CREATED:20220312T144156Z
DESCRIPTION:Bosch\, Cranach\, Rubens\n\n\n Die Sammlung im Überblick\n\n\
 n \n  Dies ist die Gelegenheit\, den einzigartigen Sammlungen neu zu begeg
 nen\, darunter Spitzenwerke europäischer Malerei von Cranach\, Rubens\, R
 embrandt oder Guardi. Weltberühmtes Herzstück der Gemäldegalerie ist Hi
 eronymus Boschs Weltgerichts-Triptychon.
LAST-MODIFIED:20240802T102400Z
URL:https://www.akbild.ac.at/de/museum-und-ausstellungen/kunstsammlungen/a
 ktuelles/gemaeldegalerie/fuehrungen_veranstaltungen/2020/ORF_Museumszeit-2
 020-1004
END:VEVENT
BEGIN:VTIMEZONE
TZID:Europe/Vienna
X-LIC-LOCATION:Europe/Vienna
BEGIN:DAYLIGHT
DTSTART:20200329T030000
TZNAME:CEST
TZOFFSETFROM:+0100
TZOFFSETTO:+0200
END:DAYLIGHT
END:VTIMEZONE
END:VCALENDAR
