BEGIN:VCALENDAR
VERSION:2.0
PRODID:-//Plone.org//NONSGML plone.app.event//EN
X-WR-TIMEZONE:Europe/Vienna
BEGIN:VEVENT
SUMMARY:AMINA HANDKE Die Künstlerin ist möglicherweise anwesend.
DTSTART;TZID=Europe/Vienna:20201113T140000
DTEND;TZID=Europe/Vienna:20201113T180000
DTSTAMP:20260425T015009Z
UID:5178b179cfa807065f73da1c4118ae4b@www.akbild.ac.at
CREATED:20220312T144228Z
DESCRIPTION:Amina Handke live aus dem Blickle Raum Spiegelgasse. Das Progr
 amm im Rahmen der Vienna Art Week ist eine Kooperation mit der Gemäldegal
 erie der Akademie der bildenden Künste Wien.
LAST-MODIFIED:20240802T102400Z
URL:https://www.akbild.ac.at/de/museum-und-ausstellungen/kunstsammlungen/a
 ktuelles/gemaeldegalerie/fuehrungen_veranstaltungen/2020/amina-handke-die-
 kuenstlerin-ist-moeglicherweise-anwesend/SubEvent
END:VEVENT
BEGIN:VTIMEZONE
TZID:Europe/Vienna
X-LIC-LOCATION:Europe/Vienna
BEGIN:STANDARD
DTSTART:20201025T020000
TZNAME:CET
TZOFFSETFROM:+0200
TZOFFSETTO:+0100
END:STANDARD
END:VTIMEZONE
END:VCALENDAR
