BEGIN:VCALENDAR
VERSION:2.0
PRODID:-//Plone.org//NONSGML plone.app.event//EN
X-WR-TIMEZONE:Europe/Vienna
BEGIN:VEVENT
SUMMARY:Bosch und Schlegel | Ausstellungsführung
DTSTART;TZID=Europe/Vienna:20200426T103000
DTSTAMP:20260424T223532Z
UID:57606f79f026fd210dddf0e95234abcc@www.akbild.ac.at
CATEGORIES:Führungen / Veranstaltungen
CREATED:20220312T144139Z
DESCRIPTION:mit Simonne Baur
LAST-MODIFIED:20240802T102400Z
URL:https://www.akbild.ac.at/de/museum-und-ausstellungen/kunstsammlungen/a
 ktuelles/gemaeldegalerie/fuehrungen_veranstaltungen/2020/bosch-schlegel-fu
 ehrung-april
END:VEVENT
BEGIN:VTIMEZONE
TZID:Europe/Vienna
X-LIC-LOCATION:Europe/Vienna
BEGIN:DAYLIGHT
DTSTART:20200329T030000
TZNAME:CEST
TZOFFSETFROM:+0100
TZOFFSETTO:+0200
END:DAYLIGHT
END:VTIMEZONE
END:VCALENDAR
