BEGIN:VCALENDAR
VERSION:2.0
PRODID:-//Plone.org//NONSGML plone.app.event//EN
X-WR-TIMEZONE:Europe/Vienna
BEGIN:VEVENT
SUMMARY:Bosch und Schlegel | Ausstellungsführung
DTSTART;TZID=Europe/Vienna:20200329T103000
DTSTAMP:20260424T223455Z
UID:84b9912148f66cad49b591362e2bc67e@www.akbild.ac.at
CATEGORIES:Führungen / Veranstaltungen
CREATED:20220312T144134Z
DESCRIPTION:mit Claudia Baumann
LAST-MODIFIED:20240802T102400Z
URL:https://www.akbild.ac.at/de/museum-und-ausstellungen/kunstsammlungen/a
 ktuelles/gemaeldegalerie/fuehrungen_veranstaltungen/2020/bosch-schlegel-fu
 ehrung
END:VEVENT
BEGIN:VTIMEZONE
TZID:Europe/Vienna
X-LIC-LOCATION:Europe/Vienna
BEGIN:DAYLIGHT
DTSTART:20200329T030000
TZNAME:CEST
TZOFFSETFROM:+0100
TZOFFSETTO:+0200
END:DAYLIGHT
END:VTIMEZONE
END:VCALENDAR
