BEGIN:VCALENDAR
VERSION:2.0
PRODID:-//Plone.org//NONSGML plone.app.event//EN
X-WR-TIMEZONE:Europe/Vienna
BEGIN:VEVENT
SUMMARY:ABGESAGT! Bosch und Schlegel | Künstlerinnengespräch ABGESAGT!
DTSTART;TZID=Europe/Vienna:20200312T190000
DTSTAMP:20260424T223315Z
UID:969c6475779aad9672d51267b46e0389@www.akbild.ac.at
CATEGORIES:Führungen / Veranstaltungen
CREATED:20220312T144116Z
DESCRIPTION:Künstlerinnengespräch mit der Künstlerin Christine Schlegel
  und Caroline Quermann
LAST-MODIFIED:20240802T102400Z
URL:https://www.akbild.ac.at/de/museum-und-ausstellungen/kunstsammlungen/a
 ktuelles/gemaeldegalerie/fuehrungen_veranstaltungen/2020/bosch-schlegel-ge
 spraech/SubEvent
END:VEVENT
BEGIN:VTIMEZONE
TZID:Europe/Vienna
X-LIC-LOCATION:Europe/Vienna
BEGIN:STANDARD
DTSTART:20191027T020000
TZNAME:CET
TZOFFSETFROM:+0200
TZOFFSETTO:+0100
END:STANDARD
END:VTIMEZONE
END:VCALENDAR
