BEGIN:VCALENDAR
VERSION:2.0
PRODID:-//Plone.org//NONSGML plone.app.event//EN
X-WR-TIMEZONE:Europe/Vienna
BEGIN:VEVENT
SUMMARY:Bosch und Schlegel | Kuratorinnenführung
DTSTART;TZID=Europe/Vienna:20200514T163000
DTSTAMP:20260425T000020Z
UID:dcc9fa995d066250bd576a5dddcb7156@www.akbild.ac.at
CATEGORIES:Führungen / Veranstaltungen
CREATED:20220312T144143Z
DESCRIPTION:mit Julia M. Nauhaus\, Direktorin der Kunstsammlungen der Akad
 emie der bildenden Künste Wien
LAST-MODIFIED:20240802T102400Z
URL:https://www.akbild.ac.at/de/museum-und-ausstellungen/kunstsammlungen/a
 ktuelles/gemaeldegalerie/fuehrungen_veranstaltungen/2020/bosch-schlegel-ku
 ratorinnenfuehrung
END:VEVENT
BEGIN:VTIMEZONE
TZID:Europe/Vienna
X-LIC-LOCATION:Europe/Vienna
BEGIN:DAYLIGHT
DTSTART:20200329T030000
TZNAME:CEST
TZOFFSETFROM:+0100
TZOFFSETTO:+0200
END:DAYLIGHT
END:VTIMEZONE
END:VCALENDAR
