BEGIN:VCALENDAR
VERSION:2.0
PRODID:-//Plone.org//NONSGML plone.app.event//EN
X-WR-TIMEZONE:Europe/Vienna
BEGIN:VEVENT
SUMMARY:Gemäldegalerie geschlossen!
DTSTART;VALUE=DATE:20200311
DTEND;VALUE=DATE:20200404
DTSTAMP:20260424T223444Z
UID:36e9abb2b6ef4d8fce7d46ddf66a3080@www.akbild.ac.at
CATEGORIES:Führungen / Veranstaltungen
CREATED:20220312T144118Z
DESCRIPTION:Aktuelle Informationen zum Coronavirus (SARS-CoV-2)\n  \n  GES
 CHLOSSEN: Die permanente Ausstellung und die Sonderausstellungen von Gemä
 ldegalerie und Kupferstichkabinett der Akademie zu Gast im Theatermuseum\,
  Lobkowitzplatz 2\, 1010 Wien bleiben ab Mittwoch\, 11.3.2020\, bis voraus
 sichtlich 3.4.2020 GESCHLOSSEN.
LAST-MODIFIED:20240802T102400Z
URL:https://www.akbild.ac.at/de/museum-und-ausstellungen/kunstsammlungen/a
 ktuelles/gemaeldegalerie/fuehrungen_veranstaltungen/2020/gemaeldegalerie-g
 eschlossen
END:VEVENT
END:VCALENDAR
