BEGIN:VCALENDAR
VERSION:2.0
PRODID:-//Plone.org//NONSGML plone.app.event//EN
X-WR-TIMEZONE:Europe/Vienna
BEGIN:VEVENT
SUMMARY:Führung durch die Glypthothek - Einblicke in die Gipsabgusssammlu
 ng
DTSTART;TZID=Europe/Vienna:20201023T113000
DTSTAMP:20260424T234121Z
UID:f56f526ae45cc0fe48bbcde56cad0bfc@www.akbild.ac.at
CATEGORIES:Führungen / Veranstaltungen
CREATED:20220312T144209Z
DESCRIPTION:Die Glyptothek der Akademie der bildenden Künste Wien führt 
 ein Leben im Verborgenen.
LAST-MODIFIED:20240802T102400Z
URL:https://www.akbild.ac.at/de/museum-und-ausstellungen/kunstsammlungen/a
 ktuelles/gemaeldegalerie/fuehrungen_veranstaltungen/2020/glyptothek-fuehru
 ng
END:VEVENT
BEGIN:VTIMEZONE
TZID:Europe/Vienna
X-LIC-LOCATION:Europe/Vienna
BEGIN:DAYLIGHT
DTSTART:20200329T030000
TZNAME:CEST
TZOFFSETFROM:+0100
TZOFFSETTO:+0200
END:DAYLIGHT
END:VTIMEZONE
END:VCALENDAR
