BEGIN:VCALENDAR
VERSION:2.0
PRODID:-//Plone.org//NONSGML plone.app.event//EN
X-WR-TIMEZONE:Europe/Vienna
BEGIN:VEVENT
SUMMARY:Zeichnen nach der Antike - Die Glypthothek öffnet für einen Zeic
 hennachmittag
DTSTART;TZID=Europe/Vienna:20201009T140000
DTSTAMP:20260424T092817Z
UID:65d52efaa8b916c1fbebd55242a2d865@www.akbild.ac.at
CATEGORIES:Führungen / Veranstaltungen
CREATED:20220312T144201Z
DESCRIPTION:Die Nachmittagsöffnung der Glyptothek ist ein Angebot an alle
  Interessent_innen\, sich intensiv mit dem Zeichnen auseinanderzusetzen.
LAST-MODIFIED:20240802T102400Z
URL:https://www.akbild.ac.at/de/museum-und-ausstellungen/kunstsammlungen/a
 ktuelles/gemaeldegalerie/fuehrungen_veranstaltungen/2020/glyptothek-zeichn
 en
END:VEVENT
BEGIN:VTIMEZONE
TZID:Europe/Vienna
X-LIC-LOCATION:Europe/Vienna
BEGIN:DAYLIGHT
DTSTART:20200329T030000
TZNAME:CEST
TZOFFSETFROM:+0100
TZOFFSETTO:+0200
END:DAYLIGHT
END:VTIMEZONE
END:VCALENDAR
