BEGIN:VCALENDAR
VERSION:2.0
PRODID:-//Plone.org//NONSGML plone.app.event//EN
X-WR-TIMEZONE:Europe/Vienna
BEGIN:VEVENT
SUMMARY:Kaffeekränzchen für Kunstinteressierte
DTSTART;TZID=Europe/Vienna:20200307T143000
DTSTAMP:20260424T223317Z
UID:b5fb1ac41a9b480475368e20bf5bb69a@www.akbild.ac.at
CATEGORIES:Führungen / Veranstaltungen
CREATED:20220312T144107Z
DESCRIPTION:mit Kunstvermittler_innen der Kunstsammlungen der Akademie der
  bildenden Künste Wien
LAST-MODIFIED:20240802T102400Z
URL:https://www.akbild.ac.at/de/museum-und-ausstellungen/kunstsammlungen/a
 ktuelles/gemaeldegalerie/fuehrungen_veranstaltungen/2020/kaffeekraenzchen0
 2
END:VEVENT
BEGIN:VTIMEZONE
TZID:Europe/Vienna
X-LIC-LOCATION:Europe/Vienna
BEGIN:STANDARD
DTSTART:20191027T020000
TZNAME:CET
TZOFFSETFROM:+0200
TZOFFSETTO:+0100
END:STANDARD
END:VTIMEZONE
END:VCALENDAR
