BEGIN:VCALENDAR
VERSION:2.0
PRODID:-//Plone.org//NONSGML plone.app.event//EN
X-WR-TIMEZONE:Europe/Vienna
BEGIN:VEVENT
SUMMARY:Künstlerinnengespräch Agathe Pitié
DTSTART;TZID=Europe/Vienna:20200301T180000
DTSTAMP:20260424T215636Z
UID:c156ffa393ee87836b1202d29f348aa2@www.akbild.ac.at
CATEGORIES:Führungen / Veranstaltungen
CREATED:20220312T144101Z
DESCRIPTION:mit Agathe Pitié\, Künstlerin\, Elsy Lahner\, Kuratorin für
  zeitgenössische Kunst an der Albertina\, und Julia M. Nauhaus\, Direktor
 in der Kunstsammlungen der Akademie der bildenden Künste Wien
LAST-MODIFIED:20240802T102400Z
URL:https://www.akbild.ac.at/de/museum-und-ausstellungen/kunstsammlungen/a
 ktuelles/gemaeldegalerie/fuehrungen_veranstaltungen/2020/kuenstlerinnenges
 praech-pitie
END:VEVENT
BEGIN:VTIMEZONE
TZID:Europe/Vienna
X-LIC-LOCATION:Europe/Vienna
BEGIN:STANDARD
DTSTART:20191027T020000
TZNAME:CET
TZOFFSETFROM:+0200
TZOFFSETTO:+0100
END:STANDARD
END:VTIMEZONE
END:VCALENDAR
