BEGIN:VCALENDAR
VERSION:2.0
PRODID:-//Plone.org//NONSGML plone.app.event//EN
X-WR-TIMEZONE:Europe/Vienna
BEGIN:VEVENT
SUMMARY:Symposium Bosch & Pitié
DTSTART;TZID=Europe/Vienna:20200301T160000
DTSTAMP:20260424T232630Z
UID:124e9b5aa96827412b30d9c1ef44f036@www.akbild.ac.at
CATEGORIES:Führungen / Veranstaltungen
CREATED:20220312T144058Z
DESCRIPTION:Symposium mit Thomas Macho\, Direktor Inter­nationales Forsch
 ungszentrum Kulturwissen­schaften\, Klaus Speidel\, Kurator der Ausstellu
 ng\, und Mischa Altmann\, Graphic Facilitator.
LAST-MODIFIED:20240802T102400Z
URL:https://www.akbild.ac.at/de/museum-und-ausstellungen/kunstsammlungen/a
 ktuelles/gemaeldegalerie/fuehrungen_veranstaltungen/2020/symposium-bosch-p
 itie
END:VEVENT
BEGIN:VTIMEZONE
TZID:Europe/Vienna
X-LIC-LOCATION:Europe/Vienna
BEGIN:STANDARD
DTSTART:20191027T020000
TZNAME:CET
TZOFFSETFROM:+0200
TZOFFSETTO:+0100
END:STANDARD
END:VTIMEZONE
END:VCALENDAR
