BEGIN:VCALENDAR
VERSION:2.0
PRODID:-//Plone.org//NONSGML plone.app.event//EN
X-WR-TIMEZONE:Europe/Vienna
BEGIN:VEVENT
SUMMARY:Ausstellungs-Talk (Englisch)
DTSTART;TZID=Europe/Vienna:20211009T033000
DTSTAMP:20260425T001651Z
UID:fac111e525477a6525c1bc8251ace52e@www.akbild.ac.at
CATEGORIES:Führungen / Veranstaltungen
CREATED:20220312T144333Z
DESCRIPTION:Rektor Johan F. Hartle im Gespräch mit dem indischen Kurator_
 innen-Trio Raqs Media Collective über die Ausstellung\n \n  Hungry for Ti
 me\n \n .
LAST-MODIFIED:20240802T102404Z
URL:https://www.akbild.ac.at/de/museum-und-ausstellungen/kunstsammlungen/a
 ktuelles/gemaeldegalerie/fuehrungen_veranstaltungen/2021/ausstellungs-talk
END:VEVENT
BEGIN:VTIMEZONE
TZID:Europe/Vienna
X-LIC-LOCATION:Europe/Vienna
BEGIN:DAYLIGHT
DTSTART:20210328T030000
TZNAME:CEST
TZOFFSETFROM:+0100
TZOFFSETTO:+0200
END:DAYLIGHT
END:VTIMEZONE
END:VCALENDAR
