BEGIN:VCALENDAR
VERSION:2.0
PRODID:-//Plone.org//NONSGML plone.app.event//EN
X-WR-TIMEZONE:Europe/Vienna
BEGIN:VEVENT
SUMMARY:Führung durch die Glypthothek - Einblicke in die Gipsabgusssammlu
 ng
DTSTART;TZID=Europe/Vienna:20210812T160000
DTSTAMP:20260425T015114Z
UID:2a087d47d71059e2a2d3cd483f4a6dbd@www.akbild.ac.at
CATEGORIES:Führungen / Veranstaltungen
CREATED:20220312T144312Z
DESCRIPTION:Die Glyptothek der Akademie der bildenden Künste Wien führt 
 ein Leben im Verborgenen.
LAST-MODIFIED:20240802T102404Z
URL:https://www.akbild.ac.at/de/museum-und-ausstellungen/kunstsammlungen/a
 ktuelles/gemaeldegalerie/fuehrungen_veranstaltungen/2021/copy_of_glyptothe
 k-fuehrung-20210812
END:VEVENT
BEGIN:VTIMEZONE
TZID:Europe/Vienna
X-LIC-LOCATION:Europe/Vienna
BEGIN:DAYLIGHT
DTSTART:20210328T030000
TZNAME:CEST
TZOFFSETFROM:+0100
TZOFFSETTO:+0200
END:DAYLIGHT
END:VTIMEZONE
END:VCALENDAR
