BEGIN:VCALENDAR
VERSION:2.0
PRODID:-//Plone.org//NONSGML plone.app.event//EN
X-WR-TIMEZONE:Europe/Vienna
BEGIN:VEVENT
SUMMARY:Cross-Talk
DTSTART;TZID=Europe/Vienna:20211019T043000
DTSTAMP:20260423T051317Z
UID:ff937578f5dab88662ef9d1719093379@www.akbild.ac.at
CATEGORIES:Führungen / Veranstaltungen
CREATED:20220312T144348Z
DESCRIPTION:Rundgang mit Stephanie Damianitsch\, Kuratorin von\n  \n   Thi
 cket of Ideas – Thicket of Times\n  \n  \, und Barbara Mahlknecht\, Rech
 erche Koordinatorin für\n  \n   Hungry for Time\n  \n  \, durch die beide
 n Ausstellungen.
LAST-MODIFIED:20240802T102404Z
URL:https://www.akbild.ac.at/de/museum-und-ausstellungen/kunstsammlungen/a
 ktuelles/gemaeldegalerie/fuehrungen_veranstaltungen/2021/cross-talk
END:VEVENT
BEGIN:VTIMEZONE
TZID:Europe/Vienna
X-LIC-LOCATION:Europe/Vienna
BEGIN:DAYLIGHT
DTSTART:20210328T030000
TZNAME:CEST
TZOFFSETFROM:+0100
TZOFFSETTO:+0200
END:DAYLIGHT
END:VTIMEZONE
END:VCALENDAR
