BEGIN:VCALENDAR
VERSION:2.0
PRODID:-//Plone.org//NONSGML plone.app.event//EN
X-WR-TIMEZONE:Europe/Vienna
BEGIN:VEVENT
SUMMARY:Führung durch die Glypthothek - Einblicke in die Gipsabgusssammlu
 ng
DTSTART;TZID=Europe/Vienna:20210819T160000
DTSTAMP:20260425T001835Z
UID:3da3d667e2290a89ff3e6bda8c0e8000@www.akbild.ac.at
CATEGORIES:Führungen / Veranstaltungen
CREATED:20220312T144314Z
DESCRIPTION:Die Glyptothek der Akademie der bildenden Künste Wien führt 
 ein Leben im Verborgenen.
LAST-MODIFIED:20240802T102404Z
URL:https://www.akbild.ac.at/de/museum-und-ausstellungen/kunstsammlungen/a
 ktuelles/gemaeldegalerie/fuehrungen_veranstaltungen/2021/glyptothek-fuehru
 ng-20210819
END:VEVENT
BEGIN:VTIMEZONE
TZID:Europe/Vienna
X-LIC-LOCATION:Europe/Vienna
BEGIN:DAYLIGHT
DTSTART:20210328T030000
TZNAME:CEST
TZOFFSETFROM:+0100
TZOFFSETTO:+0200
END:DAYLIGHT
END:VTIMEZONE
END:VCALENDAR
