BEGIN:VCALENDAR
VERSION:2.0
PRODID:-//Plone.org//NONSGML plone.app.event//EN
X-WR-TIMEZONE:Europe/Vienna
BEGIN:VEVENT
SUMMARY:Heldentum und Götterspeisen ... schöne Damen\, ferne Reisen!
DTSTART;TZID=Europe/Vienna:20210715T123000
DTSTAMP:20260425T001537Z
UID:64217093c95edf6116d16d7af4b58d7d@www.akbild.ac.at
CATEGORIES:Führungen / Veranstaltungen
CREATED:20220312T144244Z
DESCRIPTION:eigene Kunstwerke gestalten
LAST-MODIFIED:20240802T102404Z
URL:https://www.akbild.ac.at/de/museum-und-ausstellungen/kunstsammlungen/a
 ktuelles/gemaeldegalerie/fuehrungen_veranstaltungen/2021/heldentum-2021-07
 -15
END:VEVENT
BEGIN:VTIMEZONE
TZID:Europe/Vienna
X-LIC-LOCATION:Europe/Vienna
BEGIN:DAYLIGHT
DTSTART:20210328T030000
TZNAME:CEST
TZOFFSETFROM:+0100
TZOFFSETTO:+0200
END:DAYLIGHT
END:VTIMEZONE
END:VCALENDAR
