BEGIN:VCALENDAR
VERSION:2.0
PRODID:-//Plone.org//NONSGML plone.app.event//EN
X-WR-TIMEZONE:Europe/Vienna
BEGIN:VEVENT
SUMMARY:Monster in der Gemäldegalerie
DTSTART;TZID=Europe/Vienna:20210714T103000
DTSTAMP:20260425T014822Z
UID:a18025d783ea64ea823a912a311040b5@www.akbild.ac.at
CATEGORIES:Führungen / Veranstaltungen
CREATED:20220312T144257Z
DESCRIPTION:Lasst uns gemeinsam die Monster zum Leben erwecken.
LAST-MODIFIED:20240802T102404Z
URL:https://www.akbild.ac.at/de/museum-und-ausstellungen/kunstsammlungen/a
 ktuelles/gemaeldegalerie/fuehrungen_veranstaltungen/2021/monster-210714
END:VEVENT
BEGIN:VTIMEZONE
TZID:Europe/Vienna
X-LIC-LOCATION:Europe/Vienna
BEGIN:DAYLIGHT
DTSTART:20210328T030000
TZNAME:CEST
TZOFFSETFROM:+0100
TZOFFSETTO:+0200
END:DAYLIGHT
END:VTIMEZONE
END:VCALENDAR
