BEGIN:VCALENDAR
VERSION:2.0
PRODID:-//Plone.org//NONSGML plone.app.event//EN
X-WR-TIMEZONE:Europe/Vienna
BEGIN:VEVENT
SUMMARY:Monster-Umzug
DTSTART;TZID=Europe/Vienna:20210821T140000
DTSTAMP:20260425T001643Z
UID:67c23409083625dd841b5b5434bf82b2@www.akbild.ac.at
CATEGORIES:Führungen / Veranstaltungen
CREATED:20220312T144325Z
DESCRIPTION:Die Gemäldegalerie zieht mit den Monstern\, die den berühmte
 n Altar des Hieronymus Bosch bewohnen\, zurück an den Schillerplatz.
LAST-MODIFIED:20240802T102404Z
URL:https://www.akbild.ac.at/de/museum-und-ausstellungen/kunstsammlungen/a
 ktuelles/gemaeldegalerie/fuehrungen_veranstaltungen/2021/monster-umzug
END:VEVENT
BEGIN:VTIMEZONE
TZID:Europe/Vienna
X-LIC-LOCATION:Europe/Vienna
BEGIN:DAYLIGHT
DTSTART:20210328T030000
TZNAME:CEST
TZOFFSETFROM:+0100
TZOFFSETTO:+0200
END:DAYLIGHT
END:VTIMEZONE
END:VCALENDAR
