BEGIN:VCALENDAR
VERSION:2.0
PRODID:-//Plone.org//NONSGML plone.app.event//EN
X-WR-TIMEZONE:Europe/Vienna
BEGIN:VEVENT
SUMMARY:Pädagog_innenführung
DTSTART;TZID=Europe/Vienna:20211014T040000
DTSTAMP:20260425T030615Z
UID:aa38a2fbb14ec085de6586b287343b65@www.akbild.ac.at
CATEGORIES:Führungen / Veranstaltungen
CREATED:20220312T144340Z
DESCRIPTION:Wir laden Sie herzlich zu unserer ersten Pädagog_innenführun
 g nach Rückkehr an den Schillerplatz ein. Ein_e Kunstvermittler_in der Ge
 mäldegalerie begleitet durch die Ausstellung\n \n  Hungry for Time\n \n .
  Der Rundgang bietet einen Überblick über die Sonderausstellung und Neua
 usrichtung der Sammlungspräsentationen sowie Informationen zu unseren akt
 uellen Vermittlungsformaten für die Altersstufen 10 bis 18 Jahre.
LAST-MODIFIED:20240802T102404Z
URL:https://www.akbild.ac.at/de/museum-und-ausstellungen/kunstsammlungen/a
 ktuelles/gemaeldegalerie/fuehrungen_veranstaltungen/2021/paedagoginnenfueh
 rung
END:VEVENT
BEGIN:VTIMEZONE
TZID:Europe/Vienna
X-LIC-LOCATION:Europe/Vienna
BEGIN:DAYLIGHT
DTSTART:20210328T030000
TZNAME:CEST
TZOFFSETFROM:+0100
TZOFFSETTO:+0200
END:DAYLIGHT
END:VTIMEZONE
END:VCALENDAR
