BEGIN:VCALENDAR
VERSION:2.0
PRODID:-//Plone.org//NONSGML plone.app.event//EN
X-WR-TIMEZONE:Europe/Vienna
BEGIN:VEVENT
SUMMARY:Der Soliman-Komplex (Epistemischen) Ungehorsam in Kunst und Kurati
 eren praktizieren
DTSTART;TZID=Europe/Vienna:20211130T160000
DTSTAMP:20260425T033038Z
UID:86a043af2308a5b60f29da5a36cc2089@www.akbild.ac.at
CATEGORIES:Führungen / Veranstaltungen
CREATED:20220312T144433Z
DESCRIPTION:Ausstellungsrundgang und Gespräch mit Belinda Kazeem-Kamińsk
 i\, Künstlerin\, künstlerisch Forschende\, Autorin\; Ruby Sircar\, Medie
 nkünstlerin\, und Barbara Mahlknecht\, Kuratorin und Kunstvermittlerin.
LAST-MODIFIED:20240802T102404Z
URL:https://www.akbild.ac.at/de/museum-und-ausstellungen/kunstsammlungen/a
 ktuelles/gemaeldegalerie/fuehrungen_veranstaltungen/2021/soliman
END:VEVENT
BEGIN:VTIMEZONE
TZID:Europe/Vienna
X-LIC-LOCATION:Europe/Vienna
BEGIN:STANDARD
DTSTART:20211031T020000
TZNAME:CET
TZOFFSETFROM:+0200
TZOFFSETTO:+0100
END:STANDARD
END:VTIMEZONE
END:VCALENDAR
