BEGIN:VCALENDAR
VERSION:2.0
PRODID:-//Plone.org//NONSGML plone.app.event//EN
X-WR-TIMEZONE:Europe/Vienna
BEGIN:VEVENT
SUMMARY:Tandem Überblicksführung
DTSTART;TZID=Europe/Vienna:20211010T033000
DTSTAMP:20260425T030717Z
UID:2397f38ea0df829ffbd27dc7b391720b@www.akbild.ac.at
CATEGORIES:Führungen / Veranstaltungen
CREATED:20220312T144337Z
DESCRIPTION:Tandem-Überblicksführung durch die Ausstellungen\n  \n   Hun
 gry for Time\n  \n  und\n  \n   Thicket of Ideas – Thicket of Times\n  \
 n  mit Kunstvermittler_innen der Gemäldegalerie und der Kunstauskunft der
  Exhibit Galerie
LAST-MODIFIED:20240802T102404Z
URL:https://www.akbild.ac.at/de/museum-und-ausstellungen/kunstsammlungen/a
 ktuelles/gemaeldegalerie/fuehrungen_veranstaltungen/2021/tandem-ueberblick
 sfuehrung-211010-15
END:VEVENT
BEGIN:VTIMEZONE
TZID:Europe/Vienna
X-LIC-LOCATION:Europe/Vienna
BEGIN:DAYLIGHT
DTSTART:20210328T030000
TZNAME:CEST
TZOFFSETFROM:+0100
TZOFFSETTO:+0200
END:DAYLIGHT
END:VTIMEZONE
END:VCALENDAR
