BEGIN:VCALENDAR
VERSION:2.0
PRODID:-//Plone.org//NONSGML plone.app.event//EN
X-WR-TIMEZONE:Europe/Vienna
BEGIN:VEVENT
SUMMARY:Tandem Überblicksführung
DTSTART;TZID=Europe/Vienna:20211009T103000
DTSTAMP:20260425T014954Z
UID:575719e0aab4056007a1075ffc07d19f@www.akbild.ac.at
CATEGORIES:Führungen / Veranstaltungen
CREATED:20220312T144330Z
DESCRIPTION:Tandem-Überblicksführung durch die Ausstellungen\n  \n   Hun
 gry for Time\n  \n  und\n  \n   Thicket of Ideas – Thicket of Times\n  \
 n  mit Kunstvermittler_innen der Gemäldegalerie und der Kunstauskunft der
  Exhibit Galerie
LAST-MODIFIED:20240802T102404Z
URL:https://www.akbild.ac.at/de/museum-und-ausstellungen/kunstsammlungen/a
 ktuelles/gemaeldegalerie/fuehrungen_veranstaltungen/2021/tandem-ueberblick
 sfuehrung
END:VEVENT
BEGIN:VTIMEZONE
TZID:Europe/Vienna
X-LIC-LOCATION:Europe/Vienna
BEGIN:DAYLIGHT
DTSTART:20210328T030000
TZNAME:CEST
TZOFFSETFROM:+0100
TZOFFSETTO:+0200
END:DAYLIGHT
END:VTIMEZONE
END:VCALENDAR
