BEGIN:VCALENDAR
VERSION:2.0
PRODID:-//Plone.org//NONSGML plone.app.event//EN
X-WR-TIMEZONE:Europe/Vienna
BEGIN:VEVENT
SUMMARY:Un/Chronology - (Epistemischem) Ungehorsam in Kunst und Kuratieren
  praktizieren II
DTSTART;TZID=Europe/Vienna:20211222T160000
DTSTAMP:20260422T184102Z
UID:4d86020025d0ff849e4ff2e787b2b5dd@www.akbild.ac.at
CATEGORIES:Führungen / Veranstaltungen
CREATED:20220312T144455Z
DESCRIPTION:Ausstellungsrundgang und Gespräch mit Ana Hoffner ex-Prvulovi
 c*\, Künstlerin\, Forscherin\, Autorin\; Andrea Hubin\, Kunsthistorikerin
 \, Kunstvermittlerin und Barbara Mahlknecht\, Kuratorin und Kunstvermittle
 rin.
LAST-MODIFIED:20240802T102404Z
URL:https://www.akbild.ac.at/de/museum-und-ausstellungen/kunstsammlungen/a
 ktuelles/gemaeldegalerie/fuehrungen_veranstaltungen/2021/unchronology
END:VEVENT
BEGIN:VTIMEZONE
TZID:Europe/Vienna
X-LIC-LOCATION:Europe/Vienna
BEGIN:STANDARD
DTSTART:20211031T020000
TZNAME:CET
TZOFFSETFROM:+0200
TZOFFSETTO:+0100
END:STANDARD
END:VTIMEZONE
END:VCALENDAR
