BEGIN:VCALENDAR
VERSION:2.0
PRODID:-//Plone.org//NONSGML plone.app.event//EN
X-WR-TIMEZONE:Europe/Vienna
BEGIN:VEVENT
SUMMARY:Vulkan (Englisch)
DTSTART;TZID=Europe/Vienna:20211124T140000
DTSTAMP:20260425T015738Z
UID:9a18be6a0c48deb02b37ab83eafc1d85@www.akbild.ac.at
CATEGORIES:Führungen / Veranstaltungen
CREATED:20220312T144429Z
DESCRIPTION:Eine mehrstimmige Online-Orchestrierung\, auf Basis der von La
 ura Nitsch und İpek Hamzaoğlu (Hekate Film Collective) mit Samantha Kwok
  erarbeiteten des\n  \n   pools\,\n  \n  der als „flüssiger“ Schaupla
 tz und als redaktioneller Zeithorizont zu verstehen ist\; einberufen durc
 h das Discursive Justice Ensemble (Kabelo Malatsie\, Lantian Xie\, Michell
 e Wong)\, mit Jackie Karuti\, Wing Chan\, Marcela Calderon und Ornaghi &am
 p\; Prestinari (Valentina Ornaghi und Claudio Prestinari).
LAST-MODIFIED:20240802T102404Z
URL:https://www.akbild.ac.at/de/museum-und-ausstellungen/kunstsammlungen/a
 ktuelles/gemaeldegalerie/fuehrungen_veranstaltungen/2021/vulkan
END:VEVENT
BEGIN:VTIMEZONE
TZID:Europe/Vienna
X-LIC-LOCATION:Europe/Vienna
BEGIN:STANDARD
DTSTART:20211031T020000
TZNAME:CET
TZOFFSETFROM:+0200
TZOFFSETTO:+0100
END:STANDARD
END:VTIMEZONE
END:VCALENDAR
