BEGIN:VCALENDAR
VERSION:2.0
PRODID:-//Plone.org//NONSGML plone.app.event//EN
X-WR-TIMEZONE:Europe/Vienna
BEGIN:VEVENT
SUMMARY:Im Rahmen des Rundgangs 2022: Cross-Talk
DTSTART;TZID=Europe/Vienna:20220121T163000
DTSTAMP:20260425T015921Z
UID:b28d0ec2bdc501c37efb7dbbc4d9f9dc@www.akbild.ac.at
CATEGORIES:Führungen / Veranstaltungen
CREATED:20220312T144508Z
DESCRIPTION:Rundgang mit Stephanie Damianitsch\, Kuratorin von\n  \n   Thi
 cket of Ideas – Thicket of Times\n  \n  \, und Barbara Mahlknecht\, Asso
 ziierte Kuratorin und Recherche-Koordinatorin für\n  \n   Hungry for Time
 \n  \n  \, durch die beiden Ausstellungen.
LAST-MODIFIED:20240802T102404Z
URL:https://www.akbild.ac.at/de/museum-und-ausstellungen/kunstsammlungen/a
 ktuelles/gemaeldegalerie/fuehrungen_veranstaltungen/2022/fuehrung-22-01-21
END:VEVENT
BEGIN:VTIMEZONE
TZID:Europe/Vienna
X-LIC-LOCATION:Europe/Vienna
BEGIN:STANDARD
DTSTART:20211031T020000
TZNAME:CET
TZOFFSETFROM:+0200
TZOFFSETTO:+0100
END:STANDARD
END:VTIMEZONE
END:VCALENDAR
