BEGIN:VCALENDAR
VERSION:2.0
PRODID:-//Plone.org//NONSGML plone.app.event//EN
X-WR-TIMEZONE:Europe/Vienna
BEGIN:VEVENT
SUMMARY:Assoziationskarten für das Leben in Ruinen
DTSTART;TZID=Europe/Vienna:20220128T160000
DTSTAMP:20260422T115641Z
UID:a1ed3d09ca707f049cb45ffa479e483f@www.akbild.ac.at
CATEGORIES:Führungen / Veranstaltungen
CREATED:20220312T144520Z
DESCRIPTION:The Willful Weeds Research Group (vertreten durch Anette Balda
 uf\, Sílvia das Fadas\, Ipek Hamzaoğlu\, Janine Jembere und Rojda Tuğru
 l)
LAST-MODIFIED:20240802T102404Z
URL:https://www.akbild.ac.at/de/museum-und-ausstellungen/kunstsammlungen/a
 ktuelles/gemaeldegalerie/fuehrungen_veranstaltungen/2022/online-workshop
END:VEVENT
BEGIN:VTIMEZONE
TZID:Europe/Vienna
X-LIC-LOCATION:Europe/Vienna
BEGIN:STANDARD
DTSTART:20211031T020000
TZNAME:CET
TZOFFSETFROM:+0200
TZOFFSETTO:+0100
END:STANDARD
END:VTIMEZONE
END:VCALENDAR
