BEGIN:VCALENDAR
VERSION:2.0
PRODID:-//Plone.org//NONSGML plone.app.event//EN
X-WR-TIMEZONE:Europe/Vienna
BEGIN:VEVENT
SUMMARY:Durational Screening der Performativen Kunst Klasse
DTSTART;TZID=Europe/Vienna:20220120T180000
DTSTAMP:20260425T033017Z
UID:2714d5ebad18dff0bbe3f9865f72133f@www.akbild.ac.at
CATEGORIES:Führungen / Veranstaltungen
CREATED:20220312T144517Z
DESCRIPTION:Im Sinne einer Kollaboration haben sich Studierende der Klasse
  für Performative Kunst mit Werken der Ausstellung von Raqs Media Collect
 ive beschäftigt\, und zeigen ein Durational Screening mit performativen A
 rbeiten: Die Künstlerin Negin Rezaie benutzt die eigens für die Aula neu
  konzipierte Teppicharbeit von Raqs Media Collective\,  Values Flicker but
  do Not Coincide  (2021)\, als Ausgangspunkt für eine Performance.
LAST-MODIFIED:20240802T102404Z
URL:https://www.akbild.ac.at/de/museum-und-ausstellungen/kunstsammlungen/a
 ktuelles/gemaeldegalerie/fuehrungen_veranstaltungen/2022/performance-scree
 ning/SubEvent
END:VEVENT
BEGIN:VTIMEZONE
TZID:Europe/Vienna
X-LIC-LOCATION:Europe/Vienna
BEGIN:STANDARD
DTSTART:20211031T020000
TZNAME:CET
TZOFFSETFROM:+0200
TZOFFSETTO:+0100
END:STANDARD
END:VTIMEZONE
END:VCALENDAR
