BEGIN:VCALENDAR
VERSION:2.0
PRODID:-//Plone.org//NONSGML plone.app.event//EN
X-WR-TIMEZONE:Europe/Vienna
BEGIN:VEVENT
SUMMARY:Tandem-Überblicksführung
DTSTART;TZID=Europe/Vienna:20220130T103000
DTSTAMP:20260423T092533Z
UID:76bb2d2d01d88f1091ed4fbedc3bc98c@www.akbild.ac.at
CATEGORIES:Führungen / Veranstaltungen
CREATED:20220312T144524Z
DESCRIPTION:Tandem-Überblicksführung durch die Ausstellungen\n \n  Hungr
 y for Time\n \n und\n \n  Thicket of Ideas – Thicket of Times\n \n mit K
 unstvermittler_innen der Gemäldegalerie und der Kunstauskunft der Exhibit
  Galerie.
LAST-MODIFIED:20240802T102404Z
URL:https://www.akbild.ac.at/de/museum-und-ausstellungen/kunstsammlungen/a
 ktuelles/gemaeldegalerie/fuehrungen_veranstaltungen/2022/tandem-fuehrung-2
 2-01-30
END:VEVENT
BEGIN:VTIMEZONE
TZID:Europe/Vienna
X-LIC-LOCATION:Europe/Vienna
BEGIN:STANDARD
DTSTART:20211031T020000
TZNAME:CET
TZOFFSETFROM:+0200
TZOFFSETTO:+0100
END:STANDARD
END:VTIMEZONE
END:VCALENDAR
