BEGIN:VCALENDAR
VERSION:2.0
PRODID:-//Plone.org//NONSGML plone.app.event//EN
X-WR-TIMEZONE:Europe/Vienna
BEGIN:VEVENT
SUMMARY:Überblicksführung durch Hungry for Time
DTSTART;TZID=Europe/Vienna:20220227T103000
DTSTAMP:20260425T030717Z
UID:95116349ed41e3042aa8b6bc92a43239@www.akbild.ac.at
CATEGORIES:Führungen / Veranstaltungen
CREATED:20220312T144548Z
DESCRIPTION:Kunstvermittler_innen der Gemäldegalerie der Akademie der bil
 denden Künste Wien begleiten Sie durch die Ausstellung\n  \n   Hungry for
  Time\n  \n  des international tätigen Künstler_innen / Kurator_innen-Tr
 ios\n  \n   Raqs Media Collective\n  \n  .
LAST-MODIFIED:20240802T102408Z
URL:https://www.akbild.ac.at/de/museum-und-ausstellungen/kunstsammlungen/a
 ktuelles/gemaeldegalerie/fuehrungen_veranstaltungen/2022/ueberblicksfuehru
 ng-2022-02-27
END:VEVENT
BEGIN:VTIMEZONE
TZID:Europe/Vienna
X-LIC-LOCATION:Europe/Vienna
BEGIN:STANDARD
DTSTART:20211031T020000
TZNAME:CET
TZOFFSETFROM:+0200
TZOFFSETTO:+0100
END:STANDARD
END:VTIMEZONE
END:VCALENDAR
