BEGIN:VCALENDAR
VERSION:2.0
PRODID:-//Plone.org//NONSGML plone.app.event//EN
X-WR-TIMEZONE:Europe/Vienna
BEGIN:VEVENT
SUMMARY:Vielschichtig. [em]Die Heilige Sippe[/em] von Lucas Cranach d. Ä.
  - Einblick in ein Restaurierungsprojekt der Gemäldegalerie
DTSTART;TZID=Europe/Vienna:20240524T193000
DTSTAMP:20260423T204344Z
UID:e45d41805e6e42d3871923434cb9b79e@www.akbild.ac.at
CATEGORIES:Führungen / Veranstaltungen
CREATED:20240422T085500Z
DESCRIPTION:Die heilige Sippe von Lucas Cranach d. Ä. (um 1510/1512) zäh
 lt zu den Höhepunkten der Sammlung der Gemäldegalerie. Wir erläutern im
  Rahmen der Langen Nacht der Forschung konservatorische Herausforderungen 
 des Tafelbildes und blicken mit Infrarotreflektografie unter die Malschich
 t.
LAST-MODIFIED:20240802T102408Z
URL:https://www.akbild.ac.at/de/museum-und-ausstellungen/kunstsammlungen/a
 ktuelles/gemaeldegalerie/fuehrungen_veranstaltungen/2024/vielschichtig-die
 -heilige-sippe-von-lucas-cranach-d-ae-einblick-in-ein-restaurierungsprojek
 t-der-gemaeldegalerie
END:VEVENT
BEGIN:VTIMEZONE
TZID:Europe/Vienna
X-LIC-LOCATION:Europe/Vienna
BEGIN:DAYLIGHT
DTSTART:20240331T030000
TZNAME:CEST
TZOFFSETFROM:+0100
TZOFFSETTO:+0200
END:DAYLIGHT
END:VTIMEZONE
END:VCALENDAR
