BEGIN:VCALENDAR
VERSION:2.0
PRODID:-//Plone.org//NONSGML plone.app.event//EN
X-WR-TIMEZONE:Europe/Vienna
BEGIN:VEVENT
SUMMARY:Führung Glyptothek
DTSTART;TZID=Europe/Vienna:20240531T160000
DTSTAMP:20260424T162050Z
UID:f7cdb29e8e234f1d98ed159af97ce913@www.akbild.ac.at
CATEGORIES:Führungen / Veranstaltungen
CREATED:20220917T180938Z
DESCRIPTION:Die Sammlung bietet mit ihren rund 450 erhaltenen Gipsabgüsse
 n einen einzigartigen Überblick über die europäische Skulpturengeschich
 te.
LAST-MODIFIED:20240802T102424Z
URL:https://www.akbild.ac.at/de/museum-und-ausstellungen/kunstsammlungen/a
 ktuelles/glyptothek/vortraege-events/2024/fuehrung-glyptothek-20240531
END:VEVENT
BEGIN:VTIMEZONE
TZID:Europe/Vienna
X-LIC-LOCATION:Europe/Vienna
BEGIN:DAYLIGHT
DTSTART:20240331T030000
TZNAME:CEST
TZOFFSETFROM:+0100
TZOFFSETTO:+0200
END:DAYLIGHT
END:VTIMEZONE
END:VCALENDAR
