BEGIN:VCALENDAR
VERSION:2.0
PRODID:-//Plone.org//NONSGML plone.app.event//EN
X-WR-TIMEZONE:Europe/Vienna
BEGIN:VEVENT
SUMMARY:ABGESAGT! Zeichnen nach der Antike – Die Glypthothek öffnet fü
 r einen Zeichennachmittag
DTSTART;TZID=Europe/Vienna:20240528T140000
DTEND;TZID=Europe/Vienna:20240528T170000
DTSTAMP:20260424T090244Z
UID:0b6d951181ea46dabf802c561bc85f72@www.akbild.ac.at
CATEGORIES:Führungen / Veranstaltungen
CREATED:20220917T180938Z
DESCRIPTION:Die Nachmittagsöffnung der Glyptothek ist ein Angebot an alle
  Interessierten\, sich intensiv mit dem Zeichnen auseinanderzusetzen.
LAST-MODIFIED:20240802T102424Z
URL:https://www.akbild.ac.at/de/museum-und-ausstellungen/kunstsammlungen/a
 ktuelles/glyptothek/vortraege-events/2024/zeichnen-glyptothek-20240525
END:VEVENT
BEGIN:VTIMEZONE
TZID:Europe/Vienna
X-LIC-LOCATION:Europe/Vienna
BEGIN:DAYLIGHT
DTSTART:20240331T030000
TZNAME:CEST
TZOFFSETFROM:+0100
TZOFFSETTO:+0200
END:DAYLIGHT
END:VTIMEZONE
END:VCALENDAR
