BEGIN:VCALENDAR
VERSION:2.0
PRODID:-//Plone.org//NONSGML plone.app.event//EN
X-WR-TIMEZONE:Europe/Vienna
BEGIN:VEVENT
SUMMARY:Ferdinand Schmutzer | Freud und seine Zeit im Porträt
DTSTART;VALUE=DATE:20080926
DTEND;VALUE=DATE:20090126
DTSTAMP:20260425T033307Z
UID:4b219574780c081fdfe04cba63ca4910@www.akbild.ac.at
CATEGORIES:Ausstellungen
CREATED:20220312T152256Z
DESCRIPTION:In Kooperation mit dem Kupferstichkabinett der Akademie der bi
 ldenden Künste Wien zeigt das Sigmund Freud Museum zeigt eine Auswahl aus
  dem Werk des Radierers Ferdinand Schmutzer (1870-1928)\, der im frühen 2
 0. Jahrhundert zu den bedeutendsten Porträtkünstlern Wiens zählte.
LAST-MODIFIED:20240802T102408Z
URL:https://www.akbild.ac.at/de/museum-und-ausstellungen/kunstsammlungen/a
 ktuelles/kupferstichkabinett/ausstellungen/2008/akbild_event.2008-09-30.81
 77575912
END:VEVENT
END:VCALENDAR
