BEGIN:VCALENDAR
VERSION:2.0
PRODID:-//Plone.org//NONSGML plone.app.event//EN
X-WR-TIMEZONE:Europe/Vienna
BEGIN:VEVENT
SUMMARY:Theophil Hansen. Architekt und Designer. Ausstellung anlässlich d
 es 200. Geburtstages
DTSTART;TZID=Europe/Vienna:20130919T190000
DTSTAMP:20260424T065527Z
UID:7ac927013a4103d156c751590bf30acf@www.akbild.ac.at
CREATED:20220312T152354Z
DESCRIPTION:Ausstellung: Cornelia Reiter und Robert Stalla mit Markus Gesi
 erich\, Anna Keblowska\, Arnold Wilfing\, Andreas Zeese\n \n \n Ein Kooper
 ationsprojekt von Kupferstichkabinett der Akademie der\n \n bildenden Kün
 ste Wien und Abteilung Kunstgeschichte der Technischen Universität Wien\n
  \n \n Öffnungszeiten: Di–So 10.00–18.00 h\, Eintritt frei\n \n Lange
  Nacht der Museen 2013 05.10.2013 10.00–1.00 h\n \n Sonderöffnungszeite
 n: 26.10.2013 und 01.11.2013 10.00–18.00 h
LAST-MODIFIED:20240802T102408Z
URL:https://www.akbild.ac.at/de/museum-und-ausstellungen/kunstsammlungen/a
 ktuelles/kupferstichkabinett/ausstellungen/2013/copy_of_akbild_event.2013-
 04-18.6247229502/SubEvent
END:VEVENT
BEGIN:VTIMEZONE
TZID:Europe/Vienna
X-LIC-LOCATION:Europe/Vienna
BEGIN:DAYLIGHT
DTSTART:20130331T030000
TZNAME:CEST
TZOFFSETFROM:+0100
TZOFFSETTO:+0200
END:DAYLIGHT
END:VTIMEZONE
END:VCALENDAR
