BEGIN:VCALENDAR
VERSION:2.0
PRODID:-//Plone.org//NONSGML plone.app.event//EN
X-WR-TIMEZONE:Europe/Vienna
BEGIN:VEVENT
SUMMARY:Thomas Ender – Von Triest nach Rio de Janeiro
DTSTART;TZID=Europe/Vienna:20171107T190000
DTSTAMP:20260424T133549Z
UID:9ac9847036389ea680a72ba53d1340a7@www.akbild.ac.at
CREATED:20220312T152442Z
DESCRIPTION:Zum 200jährigen Jubiläum der österreichischen Brasilien-Exp
 edition zeigt  das Kupferstichkabinett der Akademie der bildenden Künste 
 Wien Thomas  Enders Aquarelle von seiner Schiffsreise nach Rio de Janeiro.
LAST-MODIFIED:20240802T102412Z
URL:https://www.akbild.ac.at/de/museum-und-ausstellungen/kunstsammlungen/a
 ktuelles/kupferstichkabinett/ausstellungen/2017/thomas-ender-2013-von-trie
 st-nach-rio-de-janeiro/SubEvent
END:VEVENT
BEGIN:VTIMEZONE
TZID:Europe/Vienna
X-LIC-LOCATION:Europe/Vienna
BEGIN:STANDARD
DTSTART:20171029T020000
TZNAME:CET
TZOFFSETFROM:+0200
TZOFFSETTO:+0100
END:STANDARD
END:VTIMEZONE
END:VCALENDAR
