BEGIN:VCALENDAR
VERSION:2.0
PRODID:-//Plone.org//NONSGML plone.app.event//EN
X-WR-TIMEZONE:Europe/Vienna
BEGIN:VEVENT
SUMMARY:Paradisus Vindobonensis – Blumenaquarelle von Anton Hartinger
DTSTART;TZID=Europe/Vienna:20180524T190000
DTSTAMP:20260424T041130Z
UID:f57fc7bb77ebe309d8a1582a34e989ff@www.akbild.ac.at
CREATED:20220312T152502Z
DESCRIPTION:Aus seinem Bestand von beinahe 900 Blumen- und Pflanzendarstel
 lungen  zeigt das Kupferstichkabinett der Akademie der bildenden Künste W
 ien  ausgewählte Blumenaquarelle von Anton Hartinger (1806–1890).
LAST-MODIFIED:20240802T102412Z
URL:https://www.akbild.ac.at/de/museum-und-ausstellungen/kunstsammlungen/a
 ktuelles/kupferstichkabinett/ausstellungen/2018/paradisus-vindobonensis-20
 13-blumenaquarelle-von-anton-hartinger/SubEvent
END:VEVENT
BEGIN:VTIMEZONE
TZID:Europe/Vienna
X-LIC-LOCATION:Europe/Vienna
BEGIN:DAYLIGHT
DTSTART:20180325T030000
TZNAME:CEST
TZOFFSETFROM:+0100
TZOFFSETTO:+0200
END:DAYLIGHT
END:VTIMEZONE
END:VCALENDAR
