BEGIN:VCALENDAR
VERSION:2.0
PRODID:-//Plone.org//NONSGML plone.app.event//EN
X-WR-TIMEZONE:Europe/Vienna
BEGIN:VEVENT
SUMMARY:Lebenslinien. Rembrandt in den Kunstsammlungen der Akademie der bi
 ldenden Künste Wien. Eine Ausstellung zum 350. Todesjahr des Künstlers
DTSTART;VALUE=DATE:20190620
DTEND;VALUE=DATE:20190923
DTSTAMP:20260424T203023Z
UID:81051cd0c712e6acb2f44034c9dd0cf0@www.akbild.ac.at
CATEGORIES:Ausstellungen
CREATED:20220312T152522Z
DESCRIPTION:2019 jährt sich der Todestag des Ausnahmekünstlers Rembrandt
  Harmensz. van Rijn (1606–1669) zum 350. Mal. Im Jubiläumsjahr stellen 
 Kupferstichka­binett und Gemäldegalerie der Akademie der bilden­den Kü
 nste Wien die Bildnisse des Niederländers\, insbesondere seine Altersdars
 tellungen\, in den Fokus einer Kabinettausstellung.
LAST-MODIFIED:20240802T102412Z
URL:https://www.akbild.ac.at/de/museum-und-ausstellungen/kunstsammlungen/a
 ktuelles/kupferstichkabinett/ausstellungen/2019/lebenslinien.-rembrandt-in
 -den-kunstsammlungen-der-akademie-der-bildenden-kuenste-wien-eine-ausstell
 ung-zum-350.-todesjahr-des-kuenstlers
END:VEVENT
END:VCALENDAR
