BEGIN:VCALENDAR
VERSION:2.0
PRODID:-//Plone.org//NONSGML plone.app.event//EN
X-WR-TIMEZONE:Europe/Vienna
BEGIN:VEVENT
SUMMARY:Führung im Rahmen des »Wochenendes der Graphik«
DTSTART;TZID=Europe/Vienna:20181110T140000
DTEND;TZID=Europe/Vienna:20181110T150000
DTSTAMP:20260425T112653Z
UID:1fed725cfb1abc2fc6c3518eb43681b9@www.akbild.ac.at
CATEGORIES:Führungen / Veranstaltungen
CREATED:20220312T152752Z
DESCRIPTION:Raus aus der Kiste! Meisterwerke aus Graphischen Sammlungen
LAST-MODIFIED:20240802T102416Z
URL:https://www.akbild.ac.at/de/museum-und-ausstellungen/kunstsammlungen/a
 ktuelles/kupferstichkabinett/vortrage-events/2018/copy2_of_fuehrung-im-rah
 men-des-bbwochenendes-der-graphikab
END:VEVENT
BEGIN:VTIMEZONE
TZID:Europe/Vienna
X-LIC-LOCATION:Europe/Vienna
BEGIN:STANDARD
DTSTART:20181028T020000
TZNAME:CET
TZOFFSETFROM:+0200
TZOFFSETTO:+0100
END:STANDARD
END:VTIMEZONE
END:VCALENDAR
