BEGIN:VCALENDAR
VERSION:2.0
PRODID:-//Plone.org//NONSGML plone.app.event//EN
X-WR-TIMEZONE:Europe/Vienna
BEGIN:VEVENT
SUMMARY:Friedrich von Schiller: Der Geisterseher\, 1787–1789
DTSTART;TZID=Europe/Vienna:20181007T190000
DTEND;TZID=Europe/Vienna:20181007T210000
DTSTAMP:20260424T132502Z
UID:a48d6989559b3b6c63efb128529bf781@www.akbild.ac.at
CREATED:20220312T152741Z
DESCRIPTION:Lesung mit Peter Stein\, Regisseur und ehem. Theaterleiter\, a
 us dem in Venedig spielenden Romanfragment
LAST-MODIFIED:20240802T102416Z
URL:https://www.akbild.ac.at/de/museum-und-ausstellungen/kunstsammlungen/a
 ktuelles/kupferstichkabinett/vortrage-events/2018/copy3_of_stefan-zweig-di
 e-welt-von-gestern/SubEvent
END:VEVENT
BEGIN:VTIMEZONE
TZID:Europe/Vienna
X-LIC-LOCATION:Europe/Vienna
BEGIN:DAYLIGHT
DTSTART:20180325T030000
TZNAME:CEST
TZOFFSETFROM:+0100
TZOFFSETTO:+0200
END:DAYLIGHT
END:VTIMEZONE
END:VCALENDAR
