BEGIN:VCALENDAR
VERSION:2.0
PRODID:-//Plone.org//NONSGML plone.app.event//EN
X-WR-TIMEZONE:Europe/Vienna
BEGIN:VEVENT
SUMMARY:Frühe Fotografie | Im Rahmen der Ausstellung "Carlo Naya"
DTSTART;TZID=Europe/Vienna:20181110T150000
DTEND;TZID=Europe/Vienna:20181110T170000
DTSTAMP:20260425T102656Z
UID:c0216200e72a7e657205b79770482532@www.akbild.ac.at
CATEGORIES:Führungen / Veranstaltungen
CREATED:20220312T152744Z
DESCRIPTION:Workshop für Kinder und Jugendliche von 6 bis 14 Jahren mit D
 iplompädagogin Stephanie Sentall BA
LAST-MODIFIED:20240802T102416Z
URL:https://www.akbild.ac.at/de/museum-und-ausstellungen/kunstsammlungen/a
 ktuelles/kupferstichkabinett/vortrage-events/2018/copy9_of_zeichnen-ist-de
 nken-mit-stift-unser-erstes-skizzenbuch
END:VEVENT
BEGIN:VTIMEZONE
TZID:Europe/Vienna
X-LIC-LOCATION:Europe/Vienna
BEGIN:STANDARD
DTSTART:20181028T020000
TZNAME:CET
TZOFFSETFROM:+0200
TZOFFSETTO:+0100
END:STANDARD
END:VTIMEZONE
END:VCALENDAR
