BEGIN:VCALENDAR
VERSION:2.0
PRODID:-//Plone.org//NONSGML plone.app.event//EN
X-WR-TIMEZONE:Europe/Vienna
BEGIN:VEVENT
SUMMARY:NEUKOMM ON TOUR & SAUDADE - Rendezvous in Brasilien
DTSTART;TZID=Europe/Vienna:20180207T190000
DTSTAMP:20260424T162106Z
UID:615af56e6acefb1c4adc494b7547b904@www.akbild.ac.at
CATEGORIES:Führungen / Veranstaltungen
CREATED:20220312T152648Z
DESCRIPTION:Konzert mit der Academia Leopoldina\, Salzburg\, &amp\; Filmvo
 rführung
LAST-MODIFIED:20240802T102416Z
URL:https://www.akbild.ac.at/de/museum-und-ausstellungen/kunstsammlungen/a
 ktuelles/kupferstichkabinett/vortrage-events/2018/copy_of_stefan-zweig-die
 -welt-von-gestern
END:VEVENT
BEGIN:VTIMEZONE
TZID:Europe/Vienna
X-LIC-LOCATION:Europe/Vienna
BEGIN:STANDARD
DTSTART:20171029T020000
TZNAME:CET
TZOFFSETFROM:+0200
TZOFFSETTO:+0100
END:STANDARD
END:VTIMEZONE
END:VCALENDAR
