BEGIN:VCALENDAR
VERSION:2.0
PRODID:-//Plone.org//NONSGML plone.app.event//EN
X-WR-TIMEZONE:Europe/Vienna
BEGIN:VEVENT
SUMMARY:Führung durch die Ausstellung „Höllenzeichnungen“
DTSTART;TZID=Europe/Vienna:20191110T160000
DTSTAMP:20260425T112827Z
UID:6e195dd5da6d369105615355d538b2d9@www.akbild.ac.at
CATEGORIES:Führungen / Veranstaltungen
CREATED:20220312T152835Z
DESCRIPTION:mit Kunstvermittler_innen der Kunstsammlungen der Akademie der
  bildenden Künste Wien im Rahmen des\n \n  Wochenendes der Graphik
LAST-MODIFIED:20240802T102420Z
URL:https://www.akbild.ac.at/de/museum-und-ausstellungen/kunstsammlungen/a
 ktuelles/kupferstichkabinett/vortrage-events/2019/hoellenzeichnungen-20191
 110
END:VEVENT
BEGIN:VTIMEZONE
TZID:Europe/Vienna
X-LIC-LOCATION:Europe/Vienna
BEGIN:STANDARD
DTSTART:20191027T020000
TZNAME:CET
TZOFFSETFROM:+0200
TZOFFSETTO:+0100
END:STANDARD
END:VTIMEZONE
END:VCALENDAR
