BEGIN:VCALENDAR
VERSION:2.0
PRODID:-//Plone.org//NONSGML plone.app.event//EN
X-WR-TIMEZONE:Europe/Vienna
BEGIN:VEVENT
SUMMARY:Konstruktion und Passion
DTSTART;TZID=Europe/Vienna:20191109T170000
DTSTAMP:20260424T172220Z
UID:20a9339fa099c09b52c8e52d98b4f08b@www.akbild.ac.at
CATEGORIES:Führungen / Veranstaltungen
CREATED:20220312T152823Z
DESCRIPTION:Joseph Anton Kochs Zeichnungen zu Dantes\n \n  Göttlicher Kom
 ödie\n \n\n\n Vortrag im Rahmen des\n \n  Wochenendes der Graphik\n \n mi
 t Maren Gröning\, Kunsthistorikerin
LAST-MODIFIED:20240802T102420Z
URL:https://www.akbild.ac.at/de/museum-und-ausstellungen/kunstsammlungen/a
 ktuelles/kupferstichkabinett/vortrage-events/2019/konstruktion-und-passion
END:VEVENT
BEGIN:VTIMEZONE
TZID:Europe/Vienna
X-LIC-LOCATION:Europe/Vienna
BEGIN:STANDARD
DTSTART:20191027T020000
TZNAME:CET
TZOFFSETFROM:+0200
TZOFFSETTO:+0100
END:STANDARD
END:VTIMEZONE
END:VCALENDAR
