BEGIN:VCALENDAR
VERSION:2.0
PRODID:-//Plone.org//NONSGML plone.app.event//EN
X-WR-TIMEZONE:Europe/Vienna
BEGIN:VEVENT
SUMMARY:Unsichtbares sichtbar machen | Eine fotografische Untersuchung
DTSTART;TZID=Europe/Vienna:20200418T103000
DTSTAMP:20260425T112648Z
UID:1b236bc86e6fb7ebc6ee1b1f7d936603@www.akbild.ac.at
CATEGORIES:Führungen / Veranstaltungen
CREATED:20220312T152855Z
DESCRIPTION:Workshop für Kinder von 8 bis 14 Jahren mit Stephanie Sentall
LAST-MODIFIED:20240802T102420Z
URL:https://www.akbild.ac.at/de/museum-und-ausstellungen/kunstsammlungen/a
 ktuelles/kupferstichkabinett/vortrage-events/2020/kinderworkshop-april
END:VEVENT
BEGIN:VTIMEZONE
TZID:Europe/Vienna
X-LIC-LOCATION:Europe/Vienna
BEGIN:DAYLIGHT
DTSTART:20200329T030000
TZNAME:CEST
TZOFFSETFROM:+0100
TZOFFSETTO:+0200
END:DAYLIGHT
END:VTIMEZONE
END:VCALENDAR
