BEGIN:VCALENDAR
VERSION:2.0
PRODID:-//Plone.org//NONSGML plone.app.event//EN
X-WR-TIMEZONE:Europe/Vienna
BEGIN:VEVENT
SUMMARY:Unsichtbares sichtbar machen | Eine fotografische Untersuchung
DTSTART;TZID=Europe/Vienna:20200509T103000
DTSTAMP:20260425T112655Z
UID:a37d4a810b6a6143270d916e248b25d9@www.akbild.ac.at
CATEGORIES:Führungen / Veranstaltungen
CREATED:20220312T152858Z
DESCRIPTION:Workshop für Kinder von 8 bis 14 Jahren mit Stephanie Sentall
LAST-MODIFIED:20240802T102420Z
URL:https://www.akbild.ac.at/de/museum-und-ausstellungen/kunstsammlungen/a
 ktuelles/kupferstichkabinett/vortrage-events/2020/kinderworkshop-mai
END:VEVENT
BEGIN:VTIMEZONE
TZID:Europe/Vienna
X-LIC-LOCATION:Europe/Vienna
BEGIN:DAYLIGHT
DTSTART:20200329T030000
TZNAME:CEST
TZOFFSETFROM:+0100
TZOFFSETTO:+0200
END:DAYLIGHT
END:VTIMEZONE
END:VCALENDAR
