BEGIN:VCALENDAR
VERSION:2.0
PRODID:-//Plone.org//NONSGML plone.app.event//EN
X-WR-TIMEZONE:Europe/Vienna
BEGIN:VEVENT
SUMMARY:Unsichtbares sichtbar machen | Eine fotografische Untersuchung - A
 BGESAGT!
DTSTART;TZID=Europe/Vienna:20200307T103000
DTSTAMP:20260425T112649Z
UID:ba11572356e321d45d7e0fcedbc4b055@www.akbild.ac.at
CATEGORIES:Führungen / Veranstaltungen
CREATED:20220312T152851Z
DESCRIPTION:Workshop für Kinder von 8 bis 14 Jahren mit Stephanie Sentall
LAST-MODIFIED:20240802T102420Z
URL:https://www.akbild.ac.at/de/museum-und-ausstellungen/kunstsammlungen/a
 ktuelles/kupferstichkabinett/vortrage-events/2020/kinderworkshop
END:VEVENT
BEGIN:VTIMEZONE
TZID:Europe/Vienna
X-LIC-LOCATION:Europe/Vienna
BEGIN:STANDARD
DTSTART:20191027T020000
TZNAME:CET
TZOFFSETFROM:+0200
TZOFFSETTO:+0100
END:STANDARD
END:VTIMEZONE
END:VCALENDAR
